BEGIN:VCALENDAR
VERSION:2.0
PRODID:-//Maheronline - ECPv6.15.20//NONSGML v1.0//EN
CALSCALE:GREGORIAN
METHOD:PUBLISH
X-WR-CALNAME:Maheronline
X-ORIGINAL-URL:https://www.maheronline.org
X-WR-CALDESC:Events for Maheronline
REFRESH-INTERVAL;VALUE=DURATION:PT1H
X-Robots-Tag:noindex
X-PUBLISHED-TTL:PT1H
BEGIN:VTIMEZONE
TZID:UTC
BEGIN:STANDARD
TZOFFSETFROM:+0000
TZOFFSETTO:+0000
TZNAME:UTC
DTSTART:20180101T000000
END:STANDARD
END:VTIMEZONE
BEGIN:VEVENT
DTSTART;TZID=UTC:20231231T180000
DTEND;TZID=UTC:20240101T010000
DTSTAMP:20260426T015909
CREATED:20231230T112054Z
LAST-MODIFIED:20231230T112054Z
UID:3666-1704045600-1704070800@www.maheronline.org
SUMMARY:New Years Eve Party at Maher Centre
DESCRIPTION:
URL:https://www.maheronline.org/event/new-years-eve-party-at-maher-centre/
LOCATION:Maher Centre\, 15 Ravensbridge Drive\, Leicester\, Leicestershire\, LE4 OBZ\, United Kingdom
CATEGORIES:Music & Dance,Public Events
ATTACH;FMTTYPE=image/jpeg:https://www.maheronline.org/wp-content/uploads/2023/12/new-years-eve-party-2023-maher-centre.jpeg
ORGANIZER;CN="Maher Community Leicester":MAILTO:info@mahercentre.com
END:VEVENT
BEGIN:VEVENT
DTSTART;TZID=UTC:20231118T140000
DTEND;TZID=UTC:20231118T230000
DTSTAMP:20260426T015909
CREATED:20230928T085627Z
LAST-MODIFIED:20231109T143504Z
UID:3206-1700316000-1700348400@www.maheronline.org
SUMMARY:LMCA Diwali and Sneh Milan 2023
DESCRIPTION:Ram Ram & Sita Ram all. \nLMCA invites you and your family to our Diwali & Sneh Milan on Saturday 18th November from 5pm onwards. \nPlease register your place here: – https://forms.gle/n4ebcTwCTN2RGs3Q7 \nWe encourage people to fill in this form so that it gives us an indication of the seating arrangement and food provision required. \nThis will help us manage numbers and make sure there is minimal food waste.
URL:https://www.maheronline.org/event/diwali-sneh-milan-2023/
LOCATION:Maher Centre\, 15 Ravensbridge Drive\, Leicester\, Leicestershire\, LE4 OBZ\, United Kingdom
CATEGORIES:Community,Music & Dance
ATTACH;FMTTYPE=image/jpeg:https://www.maheronline.org/wp-content/uploads/2023/09/lmca-diwali-2023.jpeg
ORGANIZER;CN="Maher Community Leicester":MAILTO:info@mahercentre.com
END:VEVENT
BEGIN:VEVENT
DTSTART;TZID=UTC:20231028T180000
DTEND;TZID=UTC:20231028T230000
DTSTAMP:20260426T015909
CREATED:20230928T090150Z
LAST-MODIFIED:20230928T090150Z
UID:3210-1698516000-1698534000@www.maheronline.org
SUMMARY:Sharad Purnima: Saturday 28 October 2023 6pm onwards
DESCRIPTION:Sharad Purnima: Saturday 28 October 2023 6pm onwards \nTicketed event Open to all. £5 per person \nAgenda: Arti\, Garba\, Dandia-Raas\, 3-Tadi\, Heech\, Ranjanyu\, Sanedo (Mix) Dress Code: Red/White Traditional (Optional) \nA dazzling evening of red and white for all to enjoy. Please come along with friends and family to celebrate full moon and offer our prayers to Radha-Krishna.
URL:https://www.maheronline.org/event/sharad-purnima-saturday-28-october-2023-6pm-onwards/
LOCATION:Maher Centre\, 15 Ravensbridge Drive\, Leicester\, Leicestershire\, LE4 OBZ\, United Kingdom
CATEGORIES:Community,Music & Dance,Religious
ATTACH;FMTTYPE=image/jpeg:https://www.maheronline.org/wp-content/uploads/2009/11/phoca_thumb_l_sharad-purnima2009-1.jpg
ORGANIZER;CN="Maher Community Leicester":MAILTO:info@mahercentre.com
END:VEVENT
BEGIN:VEVENT
DTSTART;TZID=UTC:20231015T180000
DTEND;TZID=UTC:20231023T233000
DTSTAMP:20260426T015909
CREATED:20230928T082155Z
LAST-MODIFIED:20230928T085744Z
UID:3201-1697392800-1698103800@www.maheronline.org
SUMMARY:Leicester Navratri Festival 2023
DESCRIPTION:Navratri 2023: Sunday 15 October – Monday 23 October\nSingers: Various Popular Folklore Artists from Bharat (India)\nTimescales: 7pm to 12am prompt – Garba for ladies will begin at 7pm\nAgenda: Arti\, Garba\, Dandia-Raas\, 3-Tadi\, Heech\, Ranjanyu\, Sanedo \nFancy Dress: Friday 20 October @ 7pm promptly\nCompetition is open to boys and girls 14 years of age and under. We request participants to be in proper costumes. Judges will be looking for unique concepts and effort. \nArti Plate Design: Friday 20 October @ 7pm promptly\nCompetition is open to children and adults. We would like to request our elders to encourage children to take part in decorating an Arti plate. \nTraditional Dress Code & Raffle Draw: Saturday 21 October\nPlease wear our traditional Maher clothes on this evening. Ladies will have an opportunity to perform a customary Raasado and the Gents can perform a Maniyaro Raas to the dhol. \nMataji ni Sthapna and Puja Ceremony\nThere will be a Sthapna ceremony taking place on the first day of Navratri. Should you or any family members wish to take part\, please contact the centre leaving your name and number and we will provide you with more information. \nEntry to Navratri\nEntry to Navratri is only for Mahers\, we request please do not bring non-Maher friends due to limited space. \nSponsorship/Donation\nThere are many local businesses that are supporting this year’s Navratri. Should you wish to sponsor any of the events and include information about your business\, trade or service then please contact the centre leaving your name and number and we will get back to you. \nSecurity and Parking\nFor your own safety\, please be advised to follow instructions carefully in the car park. Children should be supervised at all times. The security staff will not hesitate to remove anyone from the premises causing trouble\, under the influence of alcohol or any intoxicating substances. Please be respectful of the fact that this is a religious celebration.
URL:https://www.maheronline.org/event/leicester-navratri-festival-2023/
LOCATION:Maher Centre\, 15 Ravensbridge Drive\, Leicester\, Leicestershire\, LE4 OBZ\, United Kingdom
CATEGORIES:Community,Music & Dance,Religious
ATTACH;FMTTYPE=image/jpeg:https://www.maheronline.org/wp-content/uploads/2021/10/NavDurga.jpg
ORGANIZER;CN="Maher Community Leicester":MAILTO:info@mahercentre.com
END:VEVENT
BEGIN:VEVENT
DTSTART;TZID=UTC:20190929T190000
DTEND;TZID=UTC:20191007T233000
DTSTAMP:20260426T015909
CREATED:20190923T220847Z
LAST-MODIFIED:20190923T220847Z
UID:2018-1569783600-1570491000@www.maheronline.org
SUMMARY:LMCA – Navratri Festival 2019
DESCRIPTION:Jai Mataji\n16th September 2019 \nDearest Samaj Brothers and Sisters\nWe hope this letter finds you in good health and spirit. Following some very successful events\, we are pleased to inform you of Navratri arrangements. Please find details:\nKey Event Dates\nNavratri Sunday 29th September – Monday 7th October: 7pm onwards\nSharad Purnima Saturday 12th October: 7pm onwards\nDiwali Gathering and Sneh Milan Saturday 2nd November : 6pm onwards\nChildren’s Christmas Party Saturday 14th December: 3pm onwards\nNavratri 2019: Sunday 29th September – Monday 7th October\nSingers: Various Popular Folklore Artists from India\nTimescales: 7pm to 12am prompt – Garba for ladies will begin at 7.30pm\nAgenda: Arti\, Garba\, Dandia-Raas\, Maniyaro\, 3-Tadi\, Heech\, Ranjanyu\, Sanedo\nFancy Dress: Sunday 6th October @ 7pm promptly\nCompetition is open to boys and girls 14 years of age and under. We request participants to be in proper costumes. Judges will be looking for unique concepts and effort.\nArti Plate Design: Sunday 6th October @ 7pm promptly\nCompetition is open to children and adults. We would like to request our elders to encourage children to take part in decorating an Arti plate.\nTraditional Dress Code: Saturday 5th October\nPlease wear our traditional Maher clothes on this evening. Ladies will have an opportunity to perform a customary Raasado and the Gents can perform a Maniyaro Raas to the dhol.\nDance and Dress Competition: Saturday 5th October\nThere will be an opportunity for everyone to take part in a healthy competition. Please note\, the competition will be for one day only on Saturday 5th October. Participants must be wearing traditional Maher clothing.\nMataji ni Sthapna and Puja Ceremony\nThere will be a Sthapna ceremony taking place on the first day of Navratri. Should you or any family members wish to take part\, please contact the centre leaving your name and number and we will provide you with more information.\nSharad Purnima: Saturday 12th October 2019 7pm onwards\nAgenda: Arti\, Garba\, Dandia-Raas\, 3-Tadi\, Heech\, Ranjanyu\, Sanedo (Mix)\nDress Code: Red/White Traditional (Optional)\nA dazzling evening of red and white for all to enjoy. Please come along with friends and family to celebrate full moon and offer our prayers to Radha-Krishna.\nDiwali / Sneh Milan: Saturday 2nd November 2019 6pm onwards.\nWe will be hosting a social evening gathering with music and a buffet dinner. Further information of this even will be made available during Navratri and updated on www.maheronline.org\nChildren’s Christmas Party: Saturday 14th December 2019 3pm onwards.\nOpen to children under the age of 16. Please come along to celebrate the festive season. There will be plenty of food and drinks\, music\, games\, and activities for all to enjoy.\nEntry to Navratri\nWe are pleased to announce that entry to Navratri will be free this year. Please do keep a hold of your previously organised ID cards as a record for future use.\nSponsorship\nThere are many local businesses that are supporting this year’s Navratri. Should you wish to sponsor any of the events and include information about your business\, trade or service then please contact the centre leaving your name and number and we will get back to you.\nSecurity and Parking\nFor your own safety\, please be advised to follow instructions carefully in the car park. Children should be supervised at all times. The security staff will not hesitate to remove anyone from the premises causing trouble\, under the influence of alcohol or any intoxicating substances. Please be respectful of the fact that this is a religious celebration.\nThank you very much for your ongoing support and encouragement. We look forward to seeing you soon!\nTeam LMCA
URL:https://www.maheronline.org/event/lmca-navratri-festival-2019/
LOCATION:Maher Centre\, 15 Ravensbridge Drive\, Leicester\, Leicestershire\, LE4 OBZ\, United Kingdom
CATEGORIES:Community,Music & Dance,Religious
ATTACH;FMTTYPE=image/jpeg:https://www.maheronline.org/wp-content/uploads/2019/09/IMG_8318.jpg
ORGANIZER;CN="Maher Community Leicester":MAILTO:info@mahercentre.com
END:VEVENT
END:VCALENDAR