BEGIN:VCALENDAR
VERSION:2.0
PRODID:-//Maheronline - ECPv6.15.20//NONSGML v1.0//EN
CALSCALE:GREGORIAN
METHOD:PUBLISH
X-WR-CALNAME:Maheronline
X-ORIGINAL-URL:https://www.maheronline.org
X-WR-CALDESC:Events for Maheronline
REFRESH-INTERVAL;VALUE=DURATION:PT1H
X-Robots-Tag:noindex
X-PUBLISHED-TTL:PT1H
BEGIN:VTIMEZONE
TZID:UTC
BEGIN:STANDARD
TZOFFSETFROM:+0000
TZOFFSETTO:+0000
TZNAME:UTC
DTSTART:20250101T000000
END:STANDARD
END:VTIMEZONE
BEGIN:VEVENT
DTSTART;TZID=UTC:20260328T090000
DTEND;TZID=UTC:20260328T190000
DTSTAMP:20260425T220928
CREATED:20260305T104121Z
LAST-MODIFIED:20260305T104352Z
UID:4354-1774688400-1774724400@www.maheronline.org
SUMMARY:Badminton Tournament 2026
DESCRIPTION:Maher Badminton Tournament 2026\nMaher Badminton Tournament 2026 on Saturday 28 March 2026 at Crown Hills Community College\, Gwendolen Road\, Leicester\, LE5 5FT \nRegister online https://forms.gle/JQSeJktfgQ62Xe8h9
URL:https://www.maheronline.org/event/badminton-tournament-2026/
LOCATION:Crown Hills Community College\, Gwendolen Road\, Leicester\, Leicestershire\, LE5 5FT\, United Kingdom
CATEGORIES:Community,Sports
ATTACH;FMTTYPE=image/jpeg:https://www.maheronline.org/wp-content/uploads/2026/03/Maher-Badminton-Tournamen-2026.jpeg
ORGANIZER;CN="Maher Community Leicester":MAILTO:info@mahercentre.com
END:VEVENT
END:VCALENDAR