BEGIN:VCALENDAR
VERSION:2.0
PRODID:-//Maheronline - ECPv6.15.20//NONSGML v1.0//EN
CALSCALE:GREGORIAN
METHOD:PUBLISH
X-ORIGINAL-URL:https://www.maheronline.org
X-WR-CALDESC:Events for Maheronline
REFRESH-INTERVAL;VALUE=DURATION:PT1H
X-Robots-Tag:noindex
X-PUBLISHED-TTL:PT1H
BEGIN:VTIMEZONE
TZID:UTC
BEGIN:STANDARD
TZOFFSETFROM:+0000
TZOFFSETTO:+0000
TZNAME:UTC
DTSTART:20220101T000000
END:STANDARD
END:VTIMEZONE
BEGIN:VEVENT
DTSTART;TZID=UTC:20231028T180000
DTEND;TZID=UTC:20231028T230000
DTSTAMP:20260425T205648
CREATED:20230928T090150Z
LAST-MODIFIED:20230928T090150Z
UID:3210-1698516000-1698534000@www.maheronline.org
SUMMARY:Sharad Purnima: Saturday 28 October 2023 6pm onwards
DESCRIPTION:Sharad Purnima: Saturday 28 October 2023 6pm onwards \nTicketed event Open to all. £5 per person \nAgenda: Arti\, Garba\, Dandia-Raas\, 3-Tadi\, Heech\, Ranjanyu\, Sanedo (Mix) Dress Code: Red/White Traditional (Optional) \nA dazzling evening of red and white for all to enjoy. Please come along with friends and family to celebrate full moon and offer our prayers to Radha-Krishna.
URL:https://www.maheronline.org/event/sharad-purnima-saturday-28-october-2023-6pm-onwards/
LOCATION:Maher Centre\, 15 Ravensbridge Drive\, Leicester\, Leicestershire\, LE4 OBZ\, United Kingdom
CATEGORIES:Community,Music & Dance,Religious
ATTACH;FMTTYPE=image/jpeg:https://www.maheronline.org/wp-content/uploads/2009/11/phoca_thumb_l_sharad-purnima2009-1.jpg
ORGANIZER;CN="Maher Community Leicester":MAILTO:info@mahercentre.com
END:VEVENT
END:VCALENDAR