BEGIN:VCALENDAR
VERSION:2.0
PRODID:-//Maheronline - ECPv6.15.20//NONSGML v1.0//EN
CALSCALE:GREGORIAN
METHOD:PUBLISH
X-ORIGINAL-URL:https://www.maheronline.org
X-WR-CALDESC:Events for Maheronline
REFRESH-INTERVAL;VALUE=DURATION:PT1H
X-Robots-Tag:noindex
X-PUBLISHED-TTL:PT1H
BEGIN:VTIMEZONE
TZID:UTC
BEGIN:STANDARD
TZOFFSETFROM:+0000
TZOFFSETTO:+0000
TZNAME:UTC
DTSTART:20230101T000000
END:STANDARD
END:VTIMEZONE
BEGIN:VEVENT
DTSTART;TZID=UTC:20240324T150000
DTEND;TZID=UTC:20240324T200000
DTSTAMP:20260425T032213
CREATED:20240316T131012Z
LAST-MODIFIED:20240316T131334Z
UID:3748-1711292400-1711310400@www.maheronline.org
SUMMARY:Holi Festival 2024
DESCRIPTION:Holi Festival 2024 at Maher Centre\, Leicester on Sunday 24 March 2024 from 3pm To 8pm.
URL:https://www.maheronline.org/event/holi-festival-2024/
LOCATION:Maher Centre\, 15 Ravensbridge Drive\, Leicester\, Leicestershire\, LE4 OBZ\, United Kingdom
CATEGORIES:Community,Religious
ATTACH;FMTTYPE=image/jpeg:https://www.maheronline.org/wp-content/uploads/2024/03/IMG-20240212-WA0016.jpg
ORGANIZER;CN="Maher Community Leicester":MAILTO:info@mahercentre.com
END:VEVENT
END:VCALENDAR